BEGIN:VCALENDAR
VERSION:2.0
PRODID:-//hacksw/handcal//NONSGML v1.0//EN
BEGIN:VEVENT
SUMMARY:BLANCPIGNON - Chpt DEPARTEMENTAL - DOUBLETTE SENIOR MASCULIN
UID:2589d6a0-4f64-473b-b50d-ccf6c1d4b95e
DTSTART:20260426T063000Z
DTEND:20260426T220000Z
LOCATION:Localisation   MONTBRUN / BLANCPIGNON
CATEGORIES:Sportif
STATUS:
URL;VALUE=URI:https://www.petanquecd64.fr/evenements/2026/04/26/blancpignon-chpt-departemental-doublette-senior-masculin-2399086
END:VEVENT
END:VCALENDAR
